BEGIN:VCALENDAR
VERSION:2.0
PRODID:-//Ousar - ECPv6.15.16.1//NONSGML v1.0//EN
CALSCALE:GREGORIAN
METHOD:PUBLISH
X-ORIGINAL-URL:https://ousar.com.br
X-WR-CALDESC:Eventos para Ousar
REFRESH-INTERVAL;VALUE=DURATION:PT1H
X-Robots-Tag:noindex
X-PUBLISHED-TTL:PT1H
BEGIN:VTIMEZONE
TZID:UTC
BEGIN:STANDARD
TZOFFSETFROM:+0000
TZOFFSETTO:+0000
TZNAME:UTC
DTSTART:20200101T000000
END:STANDARD
END:VTIMEZONE
BEGIN:VEVENT
DTSTART;TZID=UTC:20260304T183000
DTEND;TZID=UTC:20260304T220000
DTSTAMP:20260423T162708
CREATED:20211217T190543Z
LAST-MODIFIED:20260225T024457Z
UID:7734-1772649000-1772661600@ousar.com.br
SUMMARY:Eneagrama Jaraguá do Sul
DESCRIPTION:Eneagrama presencial Jaraguá do Sul- SC
URL:https://ousar.com.br/agenda/eneagrama-presencial-apevi/
CATEGORIES:Agenda,Eneagrama
ATTACH;FMTTYPE=image/jpeg:https://ousar.com.br/wp-content/uploads/2021/12/portal-germanico-de-jaragua-do-sul.jpg
END:VEVENT
BEGIN:VEVENT
DTSTART;TZID=UTC:20260219T190000
DTEND;TZID=UTC:20260219T223000
DTSTAMP:20260423T162708
CREATED:20211125T202717Z
LAST-MODIFIED:20251107T182003Z
UID:7727-1771527600-1771540200@ousar.com.br
SUMMARY:Eneagrama Joinville | ACIJ
DESCRIPTION:Curso Eneagrama Joinville – SC. Entender de gente é fundamental para o nosso sucesso na vida.
URL:https://ousar.com.br/agenda/eneagrama-presencial/
CATEGORIES:Agenda,Eneagrama
ATTACH;FMTTYPE=image/jpeg:https://ousar.com.br/wp-content/uploads/2021/08/Portico-Joinville.jpg
END:VEVENT
BEGIN:VEVENT
DTSTART;TZID=UTC:20251010T083000
DTEND;TZID=UTC:20251010T180000
DTSTAMP:20260423T162708
CREATED:20240621T223455Z
LAST-MODIFIED:20250921T130345Z
UID:8071-1760085000-1760119200@ousar.com.br
SUMMARY:Eneagrama no Perini | Ágora Tech Park
DESCRIPTION:Curso Eneagrama no Ágora Tech Park. Entender de gente é fundamental para o nosso sucesso na vida
URL:https://ousar.com.br/agenda/eneagrama-perini-agora-tech-park/
CATEGORIES:Agenda,Eneagrama
ATTACH;FMTTYPE=image/jpeg:https://ousar.com.br/wp-content/uploads/2024/06/Foto-Agora-HUB-1.jpg
END:VEVENT
BEGIN:VEVENT
DTSTART;TZID=UTC:20250714T190000
DTEND;TZID=UTC:20250714T220000
DTSTAMP:20260423T162708
CREATED:20210625T172942Z
LAST-MODIFIED:20250614T212302Z
UID:7630-1752519600-1752530400@ousar.com.br
SUMMARY:Eneagrama on-line | ao vivo
DESCRIPTION:Eneagrama e a arte de entender de gente
URL:https://ousar.com.br/agenda/eneagrama-online-ao-vivo/
CATEGORIES:Agenda,Eneagrama
ATTACH;FMTTYPE=image/png:https://ousar.com.br/wp-content/uploads/2021/06/Grupo-aberto-online-_-ao-vivo.png
END:VEVENT
BEGIN:VEVENT
DTSTART;TZID=UTC:20250411T183000
DTEND;TZID=UTC:20250411T223000
DTSTAMP:20260423T162708
CREATED:20221018T214833Z
LAST-MODIFIED:20250304T201554Z
UID:7820-1744396200-1744410600@ousar.com.br
SUMMARY:Eneagrama Blumenau - final de semana
DESCRIPTION:Eneagrama e a Arte de Entender de Gente em Blumenau-SC
URL:https://ousar.com.br/agenda/eneagrama-final-de-semana/
CATEGORIES:Agenda,Eneagrama
ATTACH;FMTTYPE=image/jpeg:https://ousar.com.br/wp-content/uploads/2022/10/ich-blumenau.jpg
END:VEVENT
BEGIN:VEVENT
DTSTART;TZID=UTC:20231107T190000
DTEND;TZID=UTC:20231107T223000
DTSTAMP:20260423T162708
CREATED:20210823T170952Z
LAST-MODIFIED:20231019T200819Z
UID:7680-1699383600-1699396200@ousar.com.br
SUMMARY:ENEAGRAMA IN COMPANY
DESCRIPTION:Eneagrama e a arte de entender de gente para empresas
URL:https://ousar.com.br/agenda/eneagrama-in-company/
CATEGORIES:Agenda,Eneagrama
ATTACH;FMTTYPE=image/png:https://ousar.com.br/wp-content/uploads/2021/08/Eneagrama-in-company_out_23.png
END:VEVENT
BEGIN:VEVENT
DTSTART;TZID=UTC:20220516T190000
DTEND;TZID=UTC:20220516T220000
DTSTAMP:20260423T162708
CREATED:20220401T004740Z
LAST-MODIFIED:20220401T004740Z
UID:7805-1652727600-1652738400@ousar.com.br
SUMMARY:Workshop Liderança com Foco em Resultados
DESCRIPTION:APEVI – Jaraguá do Sul
URL:https://ousar.com.br/agenda/workshop-lideranca-com-foco-em-resultados/
CATEGORIES:Agenda,Workshops
ATTACH;FMTTYPE=image/png:https://ousar.com.br/wp-content/uploads/2022/04/Capa_Wks_foco-em-resultados_RCB_2022.png
END:VEVENT
BEGIN:VEVENT
DTSTART;TZID=UTC:20211020T190000
DTEND;TZID=UTC:20211020T220000
DTSTAMP:20260423T162708
CREATED:20210625T171533Z
LAST-MODIFIED:20210823T164020Z
UID:7623-1634756400-1634767200@ousar.com.br
SUMMARY:Eneagrama on-line | ao vivo
DESCRIPTION:Curso Eneagrama e a Arte de Entender de Gente \n8 encontros nas quartas a noite
URL:https://ousar.com.br/agenda/eneagrama-on-line-ao-vivo/
LOCATION:on-line
CATEGORIES:Agenda,Eneagrama
ATTACH;FMTTYPE=image/png:https://ousar.com.br/wp-content/uploads/2021/06/capa_eneagrama_on-line_.png
END:VEVENT
BEGIN:VEVENT
DTSTART;TZID=UTC:20210823T200000
DTEND;TZID=UTC:20210823T213000
DTSTAMP:20260423T162708
CREATED:20210712T173837Z
LAST-MODIFIED:20210818T153849Z
UID:7662-1629748800-1629754200@ousar.com.br
SUMMARY:Live Instagram | 20 anos de atuação com o Eneagrama
DESCRIPTION:Eneagrama nos esportes \n 
URL:https://ousar.com.br/agenda/live-instagram-20-anos-de-atuacao-com-o-eneagrama-2/
CATEGORIES:Agenda,Palestras
ATTACH;FMTTYPE=image/png:https://ousar.com.br/wp-content/uploads/2021/07/Live-com-Rabelo.png
END:VEVENT
BEGIN:VEVENT
DTSTART;TZID=UTC:20210804T200000
DTEND;TZID=UTC:20210804T213000
DTSTAMP:20260423T162708
CREATED:20210625T182630Z
LAST-MODIFIED:20210625T182630Z
UID:7634-1628107200-1628112600@ousar.com.br
SUMMARY:Aula Especial Eneagrama on-line e ao vivo
DESCRIPTION:Aula Especial Eneagrama gratuita
URL:https://ousar.com.br/agenda/aula-especial-eneagrama-on-line-e-ao-vivo/
LOCATION:Zoom
ATTACH;FMTTYPE=image/png:https://ousar.com.br/wp-content/uploads/2021/06/Aula-Especial-Eneagrama_04.08.png
END:VEVENT
END:VCALENDAR